Workbook

Sheet Auswertung
A1: Wie oft hat welcher MA Essen zubereitet | G1: Problem:
A3: =Mitarbeiter!B2 -> Müller | B3: =COUNTIFS(Aufträge!$C$2:$C$100,"Essen zubereiten",Aufträge!$D$2:$D$100,A3)+COUNTIFS(Aufträge!$C$2:$C$100,"Essen zubereiten",Aufträge!$E$2:$E$100,A3) -> 0 | G3: wenn 2 MA die selbe Tätigkeit am selben Tag verrichtet haben, dann gibt’s ein Problem beim Pivotieren
A4: =Mitarbeiter!B3 -> Meier | B4: =COUNTIFS(Aufträge!$C$2:$C$100,"Essen zubereiten",Aufträge!$D$2:$D$100,A4)+COUNTIFS(Aufträge!$C$2:$C$100,"Essen zubereiten",Aufträge!$E$2:$E$100,A4) -> 3
A5: =Mitarbeiter!B4 -> Maler | B5: =COUNTIFS(Aufträge!$C$2:$C$100,"Essen zubereiten",Aufträge!$D$2:$D$100,A5)+COUNTIFS(Aufträge!$C$2:$C$100,"Essen zubereiten",Aufträge!$E$2:$E$100,A5) -> 0
A6: =Mitarbeiter!B5 -> Peters | B6: =COUNTIFS(Aufträge!$C$2:$C$100,"Essen zubereiten",Aufträge!$D$2:$D$100,A6)+COUNTIFS(Aufträge!$C$2:$C$100,"Essen zubereiten",Aufträge!$E$2:$E$100,A6) -> 0
A7: =Mitarbeiter!B6 -> Klein | B7: =COUNTIFS(Aufträge!$C$2:$C$100,"Essen zubereiten",Aufträge!$D$2:$D$100,A7)+COUNTIFS(Aufträge!$C$2:$C$100,"Essen zubereiten",Aufträge!$E$2:$E$100,A7) -> 2
A8: =Mitarbeiter!B7 -> Vogel | B8: =COUNTIFS(Aufträge!$C$2:$C$100,"Essen zubereiten",Aufträge!$D$2:$D$100,A8)+COUNTIFS(Aufträge!$C$2:$C$100,"Essen zubereiten",Aufträge!$E$2:$E$100,A8) -> 0
A10: Wie oft hat welcher MA Essen ausgefahren
A12: =A3 -> Müller | B12: =COUNTIFS(Aufträge!$C$2:$C$100,"Essen ausfahren",Aufträge!$D$2:$D$100,A12)+COUNTIFS(Aufträge!$C$2:$C$100,"Essen ausfahren",Aufträge!$E$2:$E$100,A12) -> 0
A13: =A4 -> Meier | B13: =COUNTIFS(Aufträge!$C$2:$C$100,"Essen ausfahren",Aufträge!$D$2:$D$100,A13)+COUNTIFS(Aufträge!$C$2:$C$100,"Essen ausfahren",Aufträge!$E$2:$E$100,A13) -> 1
A14: =A5 -> Maler | B14: =COUNTIFS(Aufträge!$C$2:$C$100,"Essen ausfahren",Aufträge!$D$2:$D$100,A14)+COUNTIFS(Aufträge!$C$2:$C$100,"Essen ausfahren",Aufträge!$E$2:$E$100,A14) -> 2
A15: =A6 -> Peters | B15: =COUNTIFS(Aufträge!$C$2:$C$100,"Essen ausfahren",Aufträge!$D$2:$D$100,A15)+COUNTIFS(Aufträge!$C$2:$C$100,"Essen ausfahren",Aufträge!$E$2:$E$100,A15) -> 0
A16: =A7 -> Klein | B16: =COUNTIFS(Aufträge!$C$2:$C$100,"Essen ausfahren",Aufträge!$D$2:$D$100,A16)+COUNTIFS(Aufträge!$C$2:$C$100,"Essen ausfahren",Aufträge!$E$2:$E$100,A16) -> 0
A17: =A8 -> Vogel | B17: =COUNTIFS(Aufträge!$C$2:$C$100,"Essen ausfahren",Aufträge!$D$2:$D$100,A17)+COUNTIFS(Aufträge!$C$2:$C$100,"Essen ausfahren",Aufträge!$E$2:$E$100,A17) -> 1
A19: Wie oft hat welcher MA Fenster geputzt
A21: =A12 -> Müller | B21: =COUNTIFS(Aufträge!$C$2:$C$100,"Fenster putzen",Aufträge!$D$2:$D$100,A21)+COUNTIFS(Aufträge!$C$2:$C$100,"Fenster putzen",Aufträge!$E$2:$E$100,A21) -> 0
A22: =A13 -> Meier | B22: =COUNTIFS(Aufträge!$C$2:$C$100,"Fenster putzen",Aufträge!$D$2:$D$100,A22)+COUNTIFS(Aufträge!$C$2:$C$100,"Fenster putzen",Aufträge!$E$2:$E$100,A22) -> 0
A23: =A14 -> Maler | B23: =COUNTIFS(Aufträge!$C$2:$C$100,"Fenster putzen",Aufträge!$D$2:$D$100,A23)+COUNTIFS(Aufträge!$C$2:$C$100,"Fenster putzen",Aufträge!$E$2:$E$100,A23) -> 1
A24: =A15 -> Peters | B24: =COUNTIFS(Aufträge!$C$2:$C$100,"Fenster putzen",Aufträge!$D$2:$D$100,A24)+COUNTIFS(Aufträge!$C$2:$C$100,"Fenster putzen",Aufträge!$E$2:$E$100,A24) -> 1
A25: =A16 -> Klein | B25: =COUNTIFS(Aufträge!$C$2:$C$100,"Fenster putzen",Aufträge!$D$2:$D$100,A25)+COUNTIFS(Aufträge!$C$2:$C$100,"Fenster putzen",Aufträge!$E$2:$E$100,A25) -> 0
A26: =A17 -> Vogel | B26: =COUNTIFS(Aufträge!$C$2:$C$100,"Fenster putzen",Aufträge!$D$2:$D$100,A26)+COUNTIFS(Aufträge!$C$2:$C$100,"Fenster putzen",Aufträge!$E$2:$E$100,A26) -> 1
A28: Wie oft hat welcher MA Zimmer aufgeräumt
A30: =A21 -> Müller | B30: =COUNTIFS(Aufträge!$C$2:$C$100,"Zimmer aufräumen",Aufträge!$D$2:$D$100,A30)+COUNTIFS(Aufträge!$C$2:$C$100,"Zimmer aufräumen",Aufträge!$E$2:$E$100,A30) -> 0
A31: =A22 -> Meier | B31: =COUNTIFS(Aufträge!$C$2:$C$100,"Zimmer aufräumen",Aufträge!$D$2:$D$100,A31)+COUNTIFS(Aufträge!$C$2:$C$100,"Zimmer aufräumen",Aufträge!$E$2:$E$100,A31) -> 0
A32: =A23 -> Maler | B32: =COUNTIFS(Aufträge!$C$2:$C$100,"Zimmer aufräumen",Aufträge!$D$2:$D$100,A32)+COUNTIFS(Aufträge!$C$2:$C$100,"Zimmer aufräumen",Aufträge!$E$2:$E$100,A32) -> 0
A33: =A24 -> Peters | B33: =COUNTIFS(Aufträge!$C$2:$C$100,"Zimmer aufräumen",Aufträge!$D$2:$D$100,A33)+COUNTIFS(Aufträge!$C$2:$C$100,"Zimmer aufräumen",Aufträge!$E$2:$E$100,A33) -> 0
A34: =A25 -> Klein | B34: =COUNTIFS(Aufträge!$C$2:$C$100,"Zimmer aufräumen",Aufträge!$D$2:$D$100,A34)+COUNTIFS(Aufträge!$C$2:$C$100,"Zimmer aufräumen",Aufträge!$E$2:$E$100,A34) -> 1
A35: =A26 -> Vogel | B35: =COUNTIFS(Aufträge!$C$2:$C$100,"Zimmer aufräumen",Aufträge!$D$2:$D$100,A35)+COUNTIFS(Aufträge!$C$2:$C$100,"Zimmer aufräumen",Aufträge!$E$2:$E$100,A35) -> 1

Sheet Aufträge
A1: Auftragsnummer | B1: Datum | C1: Leistung | D1: Mitarbeiter1 | E1: Mitarbeiter2
A2: 1 | B2: 46023 | C2: Essen zubereiten | D2: Meier | E2: Klein
A3: 2 | B3: 46023 | C3: Essen ausfahren | D3: Maler
A4: 3 | B4: 46024 | C4: Fenster putzen | D4: Vogel
A5: 4 | B5: 46024 | C5: Zimmer aufräumen | D5: Vogel | E5: Klein
A6: 5 | B6: 46025 | C6: Fenster putzen | D6: Peters
A7: 6 | B7: 46025 | C7: Essen ausfahren | D7: Meier
A8: 7 | B8: 46026 | C8: Essen zubereiten | D8: Meier
A9: 8 | B9: 46026 | C9: Essen ausfahren | D9: Maler | E9: Vogel
A10: 9 | B10: 46027 | C10: Essen zubereiten | D10: Meier | E10: Klein
A11: 10 | B11: 46027 | C11: Fenster putzen | D11: Maler

Sheet Mitarbeiter
A1: MA Nummer | B1: Name
A2: 1 | B2: Müller
A3: 2 | B3: Meier
A4: 3 | B4: Maler
A5: 4 | B5: Peters
A6: 5 | B6: Klein
A7: 6 | B7: Vogel

Sheet Hilfstabelle
C1: Essen ausfahren
C2: Essen zubereiten
C3: Fenster putzen
C4: Zimmer aufräumen
