Workbook

Sheet Tabelle1
A1: Gesamt Eingabe
A3: Name | B3: Auf | C3: ab | D3: zw | E3: Ges1 | F3: Punkte | G3: Auf | H3: ab | I3: zw | J3: Ges1 | K3: Punkte | L3: Auf | M3: ab | N3: zw | O3: Ges1 | P3: Punkte | Q3: Auf | R3: ab | S3: zw | T3: Ges1 | U3: Punkte | V3: Gsamt | W3: Ges.Zw | X3: Punkte | Y3: GesmPunkte
A4: Hans | B4: 100 | C4: 50 | D4: 2 | E4: =SUM(B4+C4) -> 150 | F4: 3 | G4: 100 | H4: 50 | I4: 2 | J4: =SUM(G4+H4) -> 150 | K4: 3 | L4: 100 | M4: 50 | N4: 2 | O4: =SUM(L4+M4) -> 150 | P4: 3 | Q4: 100 | R4: 50 | S4: 2 | T4: =SUM(Q4+R4) -> 150 | U4: 3 | V4: =SUM(E4+J4+O4+T4) -> 600 | W4: =SUM(D4+I4+N4+S4) -> 8 | X4: 3 | Y4: =SUM(F4+K4+P4+U4) -> 12
A5: Max | B5: 70 | C5: 40 | D5: 1 | E5: =SUM(B5+C5) -> 110 | F5: 2 | G5: 70 | H5: 40 | I5: 1 | J5: =SUM(G5+H5) -> 110 | K5: 2 | L5: 70 | M5: 40 | N5: 1 | O5: =SUM(L5+M5) -> 110 | P5: 2 | Q5: 70 | R5: 40 | S5: 1 | T5: =SUM(Q5+R5) -> 110 | U5: 2 | V5: =SUM(E5+J5+O5+T5) -> 440 | W5: =SUM(D5+I5+N5+S5) -> 4 | X5: 2 | Y5: =SUM(F5+K5+P5+U5) -> 8
A6: Fritz | B6: 68 | C6: 42 | D6: 2 | E6: =SUM(B6+C6) -> 110 | F6: 1 | G6: 68 | H6: 42 | I6: 2 | J6: =SUM(G6+H6) -> 110 | K6: 1 | L6: 68 | M6: 42 | N6: 2 | O6: =SUM(L6+M6) -> 110 | P6: 1 | Q6: 68 | R6: 42 | S6: 2 | T6: =SUM(Q6+R6) -> 110 | U6: 1 | V6: =SUM(E6+J6+O6+T6) -> 440 | W6: =SUM(D6+I6+N6+S6) -> 8 | X6: 1 | Y6: =SUM(F6+K6+P6+U6) -> 4

Sheet Tabelle2
A1: Endergebnis
B3: Name | C3: A1 | D3: B1 | E3: C1 | F3: D1 | G3: Ges | H3: Ges.Punkte
A4: 1. | B4: Hans | C4: =Tabelle1!E4 -> 150 | D4: =Tabelle1!J4 -> 150 | E4: =Tabelle1!O4 -> 150 | F4: =Tabelle1!T4 -> 150 | G4: =Tabelle1!V4 -> 600 | H4: =Tabelle1!Y4 -> 12
A5: 2. | B5: Max | C5: =Tabelle1!E5 -> 110 | D5: =Tabelle1!J5 -> 110 | E5: =Tabelle1!O5 -> 110 | F5: =Tabelle1!T5 -> 110 | G5: =Tabelle1!V5 -> 440 | H5: =Tabelle1!Y5 -> 8
A6: 3. | B6: Fritz | C6: =Tabelle1!E6 -> 110 | D6: =Tabelle1!J6 -> 110 | E6: =Tabelle1!O6 -> 110 | F6: =Tabelle1!T6 -> 110 | G6: =Tabelle1!V6 -> 440 | H6: =Tabelle1!Y6 -> 4
